BEGIN:VCALENDAR
VERSION:2.0
PRODID:-//Skandinavisk Teologisk Högskola - ECPv6.15.17.1//NONSGML v1.0//EN
CALSCALE:GREGORIAN
METHOD:PUBLISH
X-WR-CALNAME:Skandinavisk Teologisk Högskola
X-ORIGINAL-URL:https://www.teol.se
X-WR-CALDESC:Händelser för Skandinavisk Teologisk Högskola
REFRESH-INTERVAL;VALUE=DURATION:PT1H
X-Robots-Tag:noindex
X-PUBLISHED-TTL:PT1H
BEGIN:VTIMEZONE
TZID:Europe/Stockholm
BEGIN:DAYLIGHT
TZOFFSETFROM:+0100
TZOFFSETTO:+0200
TZNAME:CEST
DTSTART:20250330T010000
END:DAYLIGHT
BEGIN:STANDARD
TZOFFSETFROM:+0200
TZOFFSETTO:+0100
TZNAME:CET
DTSTART:20251026T010000
END:STANDARD
BEGIN:DAYLIGHT
TZOFFSETFROM:+0100
TZOFFSETTO:+0200
TZNAME:CEST
DTSTART:20260329T010000
END:DAYLIGHT
BEGIN:STANDARD
TZOFFSETFROM:+0200
TZOFFSETTO:+0100
TZNAME:CET
DTSTART:20261025T010000
END:STANDARD
BEGIN:DAYLIGHT
TZOFFSETFROM:+0100
TZOFFSETTO:+0200
TZNAME:CEST
DTSTART:20270328T010000
END:DAYLIGHT
BEGIN:STANDARD
TZOFFSETFROM:+0200
TZOFFSETTO:+0100
TZNAME:CET
DTSTART:20271031T010000
END:STANDARD
END:VTIMEZONE
BEGIN:VEVENT
DTSTART;TZID=Europe/Stockholm:20260110T093000
DTEND;TZID=Europe/Stockholm:20260110T153000
DTSTAMP:20260424T074701
CREATED:20251114T103152Z
LAST-MODIFIED:20251114T103152Z
UID:12859-1768037400-1768059000@www.teol.se
SUMMARY:Temadag om filosemitism och kristen antisemitism
DESCRIPTION:Frälsningen kommer från judarna!?\nTeologisk temadag om kristen filosemitism och kyrklig antisemitism\n10 januari 2026 kl.9:30-15:30\nFolkungakyrkan\, Folkungagatan 90\, Stockholm \nUttrycket ”frälsningen kommer från judarna” kommer från Johannesevangeliet 4:22\, där Jesus talar med den samariska kvinnan\, som var del av ett folk som inte trodde på en judisk Messias. Johannes\, som delvis skriver till judekristna som avvisats från synagogan\, betonar ändå landet och det judiska folket som frambringare av Jesus som Messias\, samtidigt som han vidgar perspektivet till att denne judiske Messias även är en frälsare för alla folk. \nSedan 1960-talet har antalet judar som bekänner Jesus som Messias ökat. Vissa tolkar detta som att biblisk profetia går i uppfyllelse. Likt de första Jesusefterföljarna vill de leva judiskt. Utifrån det skeendet och med utgångspunkt i en faktisk församlingssituation (Folkungakyrkan) kommer vi denna dag utforska vad det kan innebära teologiskt. Inte minst kommer vi att fokusera på det ganska komplicerade mötet mellan judekristna och hednakristna. I ett större perspektiv handlar det om kristen filosemitism (judevänlighet) och kyrklig antisemitism (judefientlighet). Ämnet kommer att belysas från ett judiskt\, ett bibelvetenskapligt\, ett kyrkohistoriskt och ett pastoralt perspektiv. Dagen kommer att avslutas med ett panelsamtal. \nTemadagen har fått sin namn efter Anders Gerdmars postumt utgivna bok med samma titel\, som behandlar judar och judendom inom bibeltolkningen. \nMedverkande talare är Torbjörn Aronsson; docent i kyrkohistoria och rektor för Skandinavisk teologisk högskola\, Göran Lennartsson; pingstpredikant och teol.dr i Nya testamentet\, Bengt Mosesson; lärare i judiska ämnen på Paideia Folkhögskola\, och Martin Tebus; teolog och pastor i Folkungakyrkan. \nFöreläsningar:\n-Martin Tebus: ”Församlingen som mötesplats mellan judekristna och hednakristna”\n-Göran Lennartsson: ”Då vägen delades: judendom och kristendom i den antika världen”\n-Torbjörn Aronsson: ”Synen på judar och judendom genom kyrkohistorien”\n-Bengt Mosesson: ”Judisk syn på kristen antisemitism och filosemitism” \nProgram:\n9.30-9.45 Kaffe och mingel\n9.45-10.00 Lovsång: David Åhlén\n10.00-10.45 Martin Tebus\nBensträckare\n10.50-11.35 Göran Lennartsson\nBensträckare\n11.40-12.30 Torbjörn Aronsson\n12.30-13.30 Lunch\n13.30-14.15 Bengt Mosesson\nKaffe\n14.30-15.30 Panelsamtal med alla inblandade \nTemadagen är ett samarrangemang av Skandinavisk teologisk högskola\, Shalom över Israel och Folkungakyrkan i Stockholm.
URL:https://www.teol.se/kalenderhandelse/temadag-om-filosemitism-och-kristen-antisemitism/
LOCATION:Folkungakyrkan\, Folkungagatan 90\, Stockholm\, 11622
END:VEVENT
END:VCALENDAR