BEGIN:VCALENDAR
VERSION:2.0
PRODID:-//Skandinavisk Teologisk Högskola - ECPv6.15.17.1//NONSGML v1.0//EN
CALSCALE:GREGORIAN
METHOD:PUBLISH
X-ORIGINAL-URL:https://www.teol.se
X-WR-CALDESC:Händelser för Skandinavisk Teologisk Högskola
REFRESH-INTERVAL;VALUE=DURATION:PT1H
X-Robots-Tag:noindex
X-PUBLISHED-TTL:PT1H
BEGIN:VTIMEZONE
TZID:Europe/Stockholm
BEGIN:DAYLIGHT
TZOFFSETFROM:+0100
TZOFFSETTO:+0200
TZNAME:CEST
DTSTART:20240331T010000
END:DAYLIGHT
BEGIN:STANDARD
TZOFFSETFROM:+0200
TZOFFSETTO:+0100
TZNAME:CET
DTSTART:20241027T010000
END:STANDARD
BEGIN:DAYLIGHT
TZOFFSETFROM:+0100
TZOFFSETTO:+0200
TZNAME:CEST
DTSTART:20250330T010000
END:DAYLIGHT
BEGIN:STANDARD
TZOFFSETFROM:+0200
TZOFFSETTO:+0100
TZNAME:CET
DTSTART:20251026T010000
END:STANDARD
BEGIN:DAYLIGHT
TZOFFSETFROM:+0100
TZOFFSETTO:+0200
TZNAME:CEST
DTSTART:20260329T010000
END:DAYLIGHT
BEGIN:STANDARD
TZOFFSETFROM:+0200
TZOFFSETTO:+0100
TZNAME:CET
DTSTART:20261025T010000
END:STANDARD
END:VTIMEZONE
BEGIN:VEVENT
DTSTART;TZID=Europe/Stockholm:20251205T081500
DTEND;TZID=Europe/Stockholm:20251206T120000
DTSTAMP:20260424T092542
CREATED:20251028T143345Z
LAST-MODIFIED:20251029T081002Z
UID:12559-1764922500-1765022400@www.teol.se
SUMMARY:MiniCampus: Kristen pedagogik och kristen utbildning
DESCRIPTION:Datum: 5-6 december\nPlats: STH\, Stålgatan 20\, Uppsala. Det går även att delta via zoom (se anmälningslänkar nedan) \nUndervisning är en av den kristna kyrkans mest grundläggande uppdrag – kyrkan har sysslat med undervisning och utbildning så länge den har funnits. Idag finns ett stort behov av undervisning om den kristna tron\, en stor efterfrågan på kristna lärare och på kristna skolor i Sverige. Det finns också en mängd praktiska och pedagogiska frågor kring både undervisning i församlingsmiljö\, kristna skolor och vad en kristen värdegrund innebär i en utbildningssituation. \nVälkommen till ett viktigt minicampus där praktiska pedagogiska och historiska frågor kring kristna utbildningsinitiativ blir belysta! \nTalare:\nTorbjörn Aronson är rektor för Skandinavisk teologisk högskola\, professor i kyrkohistoria och mångårig skolpolitiker i Uppsala kommun. I detta minicampus undervisar han om kristna utbildningsinitiativ i ett historiskt perspektiv och om begreppet ”värdegrund”. Vad är en ”värdegrund”? Vad är en kristen ”värdegrund”? Hur kan en kristen värdegrund tillämpas i svensk skola idag? \nAnitha Risberg är medicine doktor och universitetslektor i fysiologi vid Luleå tekniska universitet och leder den pedagogiska fakulteten vid Skandinavisk teologisk högskola.  Anitha kommer undervisa om vad som kan gynna lärande och lärprocesser och hur stress och återhämtning kan påverka det. \nPavel Hoffman är teologie doktor i systematisk teologi och har under ett antal år arbetat med att bygg upp den grundläggande bibelundervisningen i Shanghai International Church i Kina. Han kommer förmedla principer för god undervisningsmetodik i församlingsmiljö. \nBo Nyberg är tidigare rektor för Källskolan i Bro utanför Stockholm och ordförande i Kristna Friskolerådet i Sverige under många år. Han är också involverad i förbönsarbete för kristen utbildning i Sverige och kommer att förmedla vision och tänk kring en kristen utbildningsoffensiv i Sverige under titeln ”Pedagogik utifrån Guds rikes perspektiv” \nAnmälan zoom fredag\nAnmälan zoom lördag \nSchema\nFREDAG\n08.15–08.30                Lovsång och bön\n08.30–10.00                Kristen skola i Sverige under tusen år (Torbjörn Aronson)\n10.00–10.30                Fikarast\n10.30–11.10                Vad är en värdegrund? (Torbjörn Aronson)\n11.20–12.00                Vad innebär en värdegrund baserad på den etik som förvaltats av västerländsk humanism och kristen tradition? (Torbjörn Aronson)\n12.00–13.30                Lunchrast\n13.30–15.00                Imagination\, kreativitet\, problemlösning och hur stress kan påverka inlärning (Anitha Risberg)\n15.00–15.30                Fikarast\n15.30 –17.00               Lärprocesser—hjärnan och lärande genom livet (Anitha Risberg)\n19.00                           Kvällsmöte: Pedagogik ur Guds rikes perspektiv (Bo Nyberg) \nLÖRDAG\n08.15–08.30                Lovsång och bön\n08.30–10.00                Hur undervisar man Bibeln i församlingsmiljö – del 1 (Pavel  Hoffman)\n10.00–10.30                Fikarast\n10.30–12.00                Hur undervisar man Bibeln i församlingsmiljö – del 2 (Pavel  Hoffman) \n  \n  \n 
URL:https://www.teol.se/kalenderhandelse/minicampus-kristen-pedagogik-och-kristen-utbildning/
LOCATION:Internet\, Sverige
CATEGORIES:Akademisk kalender,Studentinformation
ATTACH;FMTTYPE=image/jpeg:https://www.teol.se/wp-content/uploads/2025/05/fb-eventbild-kristenped-minicampus251020.jpg
END:VEVENT
BEGIN:VEVENT
DTSTART;TZID=Europe/Stockholm:20251210T160000
DTEND;TZID=Europe/Stockholm:20251210T170000
DTSTAMP:20260424T092542
CREATED:20250416T140910Z
LAST-MODIFIED:20251127T131421Z
UID:11841-1765382400-1765386000@www.teol.se
SUMMARY:Digitalt öppet hus - investera i din kallelse
DESCRIPTION:Investera i din kallelse – digitalt öppet hus\nVill du bli utrustad och smord till tjänst för Herren? På STH erbjuder vi utbildningar som är fast grundade i Guds ord och som bygger upp din tro istället för att riva ner den. Vår ambition är att du ska växa i din tro när du blir akademiskt skolad och samtidigt förberedd för tjänst. \nVar med den 10 december kl 16:00 och lyssna på vad du kan förvänta dig av studier vid STH! Du får möta våra lärare och studenter som berättar mer om våra kurser och hur det är att studera hos oss. Du får också praktiska tips och råd inför studier. \nMissa inte detta. Var med på öppet hus!\nAnmälan\n  \nVi har också tagit fram ett verktyg för dig som vill veta mer om vilka gåvor Gud har lagt ner i dig och hur de passar för tjänst i Guds rike. Gör vår kallelsekompass och få ett andligt personlighetstest. Med det som underlag kan du sedan boka en kostnadsfri rådgivning med oss. \nGå till testet\n 
URL:https://www.teol.se/kalenderhandelse/digitalt-oppet-hus-investera-i-din-kallelse-2/
LOCATION:Internet\, Sverige
CATEGORIES:Akademisk kalender,Studentinformation
ATTACH;FMTTYPE=image/jpeg:https://www.teol.se/wp-content/uploads/2025/03/studenter-sthbild25.jpg
END:VEVENT
END:VCALENDAR