BEGIN:VCALENDAR
VERSION:2.0
PRODID:-//Skandinavisk Teologisk Högskola - ECPv6.15.17.1//NONSGML v1.0//EN
CALSCALE:GREGORIAN
METHOD:PUBLISH
X-WR-CALNAME:Skandinavisk Teologisk Högskola
X-ORIGINAL-URL:https://www.teol.se
X-WR-CALDESC:Händelser för Skandinavisk Teologisk Högskola
REFRESH-INTERVAL;VALUE=DURATION:PT1H
X-Robots-Tag:noindex
X-PUBLISHED-TTL:PT1H
BEGIN:VTIMEZONE
TZID:Europe/Stockholm
BEGIN:DAYLIGHT
TZOFFSETFROM:+0100
TZOFFSETTO:+0200
TZNAME:CEST
DTSTART:20250330T010000
END:DAYLIGHT
BEGIN:STANDARD
TZOFFSETFROM:+0200
TZOFFSETTO:+0100
TZNAME:CET
DTSTART:20251026T010000
END:STANDARD
BEGIN:DAYLIGHT
TZOFFSETFROM:+0100
TZOFFSETTO:+0200
TZNAME:CEST
DTSTART:20260329T010000
END:DAYLIGHT
BEGIN:STANDARD
TZOFFSETFROM:+0200
TZOFFSETTO:+0100
TZNAME:CET
DTSTART:20261025T010000
END:STANDARD
BEGIN:DAYLIGHT
TZOFFSETFROM:+0100
TZOFFSETTO:+0200
TZNAME:CEST
DTSTART:20270328T010000
END:DAYLIGHT
BEGIN:STANDARD
TZOFFSETFROM:+0200
TZOFFSETTO:+0100
TZNAME:CET
DTSTART:20271031T010000
END:STANDARD
END:VTIMEZONE
BEGIN:VEVENT
DTSTART;TZID=Europe/Stockholm:20260507T183000
DTEND;TZID=Europe/Stockholm:20260507T203000
DTSTAMP:20260423T073719
CREATED:20260306T095621Z
LAST-MODIFIED:20260306T105126Z
UID:13370-1778178600-1778185800@www.teol.se
SUMMARY:Webbinarium: Salvation is from the Jews
DESCRIPTION:Salvation is from the Jews\nWebbinarium med teologie doktorerna Göran Lennartsson och Torbjörn Aronson\nGöran Lennartsson & Torbjörn Aronson samtalar om Anders Gerdmars sista bok med samma titel. Anders Gerdmars forskning fokuserade bland annat på nordeuropeiska protestantiska teologers syn på det judiska folket. Boken ”Salvation is from the Jews” innehåller ett antal vetenskapliga artiklar som sammanfattar Anders Gerdmars forskning. Det är många kända tyska teologer som passerar revy och som tyvärr också representerade en teologisk antisemitism som bidrog till att legitimera nazismens brott. \nVälkommen att delta på detta webbinarium! \n  \n\n\n\n\nTill anmälan
URL:https://www.teol.se/kalenderhandelse/salvation-is-from-the-jews/
LOCATION:Internet\, Sverige
CATEGORIES:Folkbildning,Forskning,Studentinformation
END:VEVENT
BEGIN:VEVENT
DTSTART;TZID=Europe/Stockholm:20260508T081500
DTEND;TZID=Europe/Stockholm:20260509T120000
DTSTAMP:20260423T073719
CREATED:20260128T163931Z
LAST-MODIFIED:20260421T134050Z
UID:13169-1778228100-1778328000@www.teol.se
SUMMARY:MiniCampus: Andens gåvor - kraftgåvorna
DESCRIPTION:Andens gåvor – kraftgåvorna\nDatum: 8-9 maj\, 2026\nPlats: STH\, Stålgatan 20\, Uppsala eller online (se länkar nedan)\nTalare: Linda Bergling\, Per Åkvist\, John Derneborg \nVälkommen till en intensiv och livsförvandlande helg i Uppsala – där fokus ligger på kraftgåvorna och ett liv i den helige Andes kraft. Tillsammans med erfarna talare som Per Åkvist\, John Derneborg och Linda Bergling får du undervisning som både utmanar och utrustar. Upptäck hur helande och mirakler fungerar i praktiken\, varför Guds rike behöver bli synligt – och hur du själv kan börja förmedla det Jesus gjorde. Under helgen varvas stark bibelundervisning med lovsång\, bön och konkreta vittnesbörd. \nDet här är helgen för dig som längtar efter att ta nästa steg och se Gud verka genom ditt liv! \nJohn Derneborg har varit pastor i pingströrelsen sedan 1994\, men har även ett mångårigt engagemang i nätverket New Wine där han varit anställd som inspiratör i 15 år. Även om Pingstkyrkan Vänersborg ligger nära hans hjärta\, så har han ordnat konferenser och besökt många sammanhang genom åren med fokus på att träna och utrusta församlingar till att bli förlösta i Andens gåvor. Han är gift med Mellissa Derneborg\, de har tre barn tillsammans och för närvarande två barnbarn. Han har en Bachelor of Theology (BTh) från International Seminary i Florida. \nLinda Bergling har arbetat i Sverige och internationellt med biblisk helandetjänst i över 50 år. Hon har skrivit över 20 böcker om bland annat den helige Ande\, Jesus din läkare\, själens helande\, studieböcker om österländsk andlighet kontra biblisk kristendom och om den inre bönen. Linda är pastor i församlingen Arken i Kungsängen och grundare och rektor för bibelskolan Jesus helar och upprättar. Linda reser med sin predikotjänst i hela Norden\, Israel\, Indien\, Nepal och Filippinerna. Hennes budskap är helande till kropp och själ genom Jesu försoningsgärning. \nPer Åkvist leder tillsammans med sin hustru Abbi Joshua Campaigns arbete i Etiopien och Sverige med en tydlig kallelse att vinna människor för Jesus Kristus\, styrka församlingar och nå ut till onådda folk med evangelium. Deras förkunnelse bär en tydlig betoning på frälsning\, helande\, den helige Andes kraft\, bön för sjuka\, tecken och under samt mission och församlingsplantering till Guds rikes utbredning. \nAnmälan fredag \nAnmälan lördag \n  \n 
URL:https://www.teol.se/kalenderhandelse/minicampus-andens-gavor-kraftgavorna/
LOCATION:Internet\, Sverige
CATEGORIES:Akademisk kalender,Studentinformation
END:VEVENT
BEGIN:VEVENT
DTSTART;TZID=Europe/Stockholm:20260528T190000
DTEND;TZID=Europe/Stockholm:20260528T210000
DTSTAMP:20260423T073719
CREATED:20260306T105041Z
LAST-MODIFIED:20260306T105041Z
UID:13372-1779994800-1780002000@www.teol.se
SUMMARY:Webbinarium: John Wimber och John Piper om Anden - en jämförelse om deras teologi om de karismatiska nådegåvorna
DESCRIPTION:John Wimber och John Piper om Anden – en jämförelse om deras teologi om de karismatiska nådegåvorna\nWebbinarium med teologie doktor Hans Sundberg\nHans Sundberg var personlig vän och medarbetare till John Wimber och grundare av Vineyard i Sverige. I den här föreläsningen jämför han John Wimbers teologi om den helige Ande med den reformerte karismatikern John Pipers och pekar på möjligheten att förena klassisk protestantisk teologi med Andens gåvor i praktiken. \n\n\n\n\nTill anmälan
URL:https://www.teol.se/kalenderhandelse/webbinarium-john-wimber-och-john-piper-om-anden-en-jamforelse-om-deras-teologi-om-de-karismatiska-nadegavorna/
LOCATION:Internet\, Sverige
CATEGORIES:Folkbildning,Forskning,Studentinformation
END:VEVENT
BEGIN:VEVENT
DTSTART;TZID=Europe/Stockholm:20260819T190000
DTEND;TZID=Europe/Stockholm:20260821T213000
DTSTAMP:20260423T073720
CREATED:20260320T104032Z
LAST-MODIFIED:20260320T104032Z
UID:13441-1787166000-1787347800@www.teol.se
SUMMARY:Öppet sommarcampus
DESCRIPTION:Öppet sommarcampus\nVarmt välkommen att vara med på STH sommarcampus med bön\, lovsång\, undervisning\, gemenskap och möjlighet till enskilt samtal.\nFör att underlätta att fler av STH:s vänner kan vara med\, kommer vi detta år att ha sommarcampus i Uppsala i STH:s lokaler. \nMer information och schema kommer inom kort. Boka in dessa datum!
URL:https://www.teol.se/kalenderhandelse/oppet-sommarcampus/
LOCATION:STH\, Stålgatan 20\, Uppsala\, 754 50\, Sweden
END:VEVENT
BEGIN:VEVENT
DTSTART;TZID=Europe/Stockholm:20260822T110000
DTEND;TZID=Europe/Stockholm:20260822T130000
DTSTAMP:20260423T073720
CREATED:20260306T105348Z
LAST-MODIFIED:20260306T105348Z
UID:13400-1787396400-1787403600@www.teol.se
SUMMARY:Årshögtid med examen
DESCRIPTION:Årshögtid med utexamination av studenter\n22 augusti kl 11:00 på Livets Ord.\nMer information kommer inom kort!
URL:https://www.teol.se/kalenderhandelse/arshogtid-med-examen/
END:VEVENT
END:VCALENDAR