BEGIN:VCALENDAR
VERSION:2.0
PRODID:-//Skandinavisk Teologisk Högskola - ECPv6.15.17.1//NONSGML v1.0//EN
CALSCALE:GREGORIAN
METHOD:PUBLISH
X-WR-CALNAME:Skandinavisk Teologisk Högskola
X-ORIGINAL-URL:https://www.teol.se
X-WR-CALDESC:Händelser för Skandinavisk Teologisk Högskola
REFRESH-INTERVAL;VALUE=DURATION:PT1H
X-Robots-Tag:noindex
X-PUBLISHED-TTL:PT1H
BEGIN:VTIMEZONE
TZID:Europe/Stockholm
BEGIN:DAYLIGHT
TZOFFSETFROM:+0100
TZOFFSETTO:+0200
TZNAME:CEST
DTSTART:20250330T010000
END:DAYLIGHT
BEGIN:STANDARD
TZOFFSETFROM:+0200
TZOFFSETTO:+0100
TZNAME:CET
DTSTART:20251026T010000
END:STANDARD
BEGIN:DAYLIGHT
TZOFFSETFROM:+0100
TZOFFSETTO:+0200
TZNAME:CEST
DTSTART:20260329T010000
END:DAYLIGHT
BEGIN:STANDARD
TZOFFSETFROM:+0200
TZOFFSETTO:+0100
TZNAME:CET
DTSTART:20261025T010000
END:STANDARD
BEGIN:DAYLIGHT
TZOFFSETFROM:+0100
TZOFFSETTO:+0200
TZNAME:CEST
DTSTART:20270328T010000
END:DAYLIGHT
BEGIN:STANDARD
TZOFFSETFROM:+0200
TZOFFSETTO:+0100
TZNAME:CET
DTSTART:20271031T010000
END:STANDARD
END:VTIMEZONE
BEGIN:VEVENT
DTSTART;TZID=Europe/Stockholm:20260313T081500
DTEND;TZID=Europe/Stockholm:20260314T120000
DTSTAMP:20260424T074936
CREATED:20251219T141015Z
LAST-MODIFIED:20260113T113339Z
UID:13023-1773389700-1773489600@www.teol.se
SUMMARY:MiniCampus: Att försvara den kristna tron
DESCRIPTION:Kristen apologetik: Hur försvarar man och förklarar den kristna tron i en tid av ifrågasättande och relativism?\nDatum: 13-14 mars\, 2026\nPlats: Livets Ord\, Axel Johanssons gata 3\, Uppsala. Eller online! Länkar nedan.\nTalare: Bength Gustafson\, Ola Hössjer\, Pavel Hoffman \nHur försvarar man och förklarar den kristna tron i en tid av ifrågasättande och relativism? Välkommen till ett mini-campus med fokus på kristen apologetik arrangeras på Livets Ord  i Uppsala samt via Zoom. \nUndervisningen leds av Bength Gustafson\, Ola Hössjer och Pavel Hoffman och tar upp centrala frågor om den kristna trons grund\, sanningens natur\, skapelsen och olika apologetiska metoder. Du får både teoretiska perspektiv och personliga insikter om hur apologetik kan tillämpas i kyrka och samhälle idag. \nBength Gustafson: är pastor\, teolog\, lärare och författare. Han har bland annat skrivit böckerna ”Varför just kristen?”\, ”Vilket Sverige vill vi ha?” och ”Dags för kristendomens återkomst”. Han är debattör och tidningsskribent. \nOla Hössjer: är professor i matematisk statistik vid Stockholms universitet och en uppskattad författare och föreläsare i kristen apologetik och frågor kring skapelsetro. Ola brinner för att i tal och skrift förmedla evangelium och att Bibeln är Guds ofelbara Ord till människor. \nPavel Hoffman: är utbildningsledare vid STH och teologie doktor i systematisk teologi\, etik och apologetik. Hans doktorsavhandling  beskriver förhållandet mellan kristendomen och den omgivande kulturen. Pavel är även projektledare och översättare av en ny tjeckisk bibelöversättning (GT och NT) vid namn ”Bible kralická revidovaná” (BKR). \n\n\n  \n\n\nAnmälan fredag\nAnmälan lördag\n\nSchema\nFriday\n08.15–08.30 Worship and Prayer\n08.30–10.00 A Foundation of the Christian Faith. The Origin of Truth and Falsehood. (Bength Gustafson)\n10.00–10.30 Coffee break\n10.30–12.00 Different Concepts of Truth. The Bible’s Concept of Truth. (Bength Gustafson)\n12.00–13.30 Lunchrast\n13.30–15.00 My Journey into Apologetics. Apologetic Arguments for the Christian Faith. (Ola Hössjer)\n15.00–15.30 Fikarast\n15.30 –16.15 Belief in Creation. Apologetics in the Church. (Ola Hössjer) \n19.00 Evening Service: Knowing the Times We Live In (Bength Gustafson) \nSaturday\n08.15–08.30 Worship and Prayer\n08.30–10.00 Different Apologetical Methods (Pavel Hoffman)\n10.00–10.30 Coffee break\n10.30–12.00 Apologetics and the Revelation of God (Pavel Hoffman) \n 
URL:https://www.teol.se/kalenderhandelse/minicampus-att-forsvara-den-kristna-tron/
LOCATION:Internet\, Sverige
CATEGORIES:Akademisk kalender,Studentinformation
END:VEVENT
BEGIN:VEVENT
DTSTART;TZID=Europe/Stockholm:20260326T190000
DTEND;TZID=Europe/Stockholm:20260326T210000
DTSTAMP:20260424T074936
CREATED:20260305T165507Z
LAST-MODIFIED:20260306T094412Z
UID:13366-1774551600-1774558800@www.teol.se
SUMMARY:Webbinarium: Pentekostal migration i det sekulära Sverige
DESCRIPTION:Pentekostal migration i det sekulära Sverige\nMångvetenskapliga perspektiv på ett nytt religiöst kosmopolitiskt landskap\nWebbinarium med teologie doktor Torbjörn Aronson.\nMigrationen har på många håll i världen omformat storstädernas religiösa landskap. Europas storstäder\, som länge betraktades som symboler för sekularisering och religionens tillbakagång\, har idag ofta blivit några av de mest religiöst dynamiska miljöerna i sina respektive länder. En viktig drivkraft i denna utveckling är pingstkarismatiska migranter och missionärer. \nStockholm är inget undantag. I detta webbinarium presenterar Torbjörn Aronson resultaten från ett omfattande forskningsprojekt om hur huvudstadens religiösa landskap har förändrats. Med utgångspunkt i den nyutkomna boken Pentecostal Migration in Secular Sweden belyser han hur det sekulära Sverige har påverkats av den pentekostala migrationen. \nVarmt välkommen att ta del av aktuell forskning om ett Sverige i förändring! \n\n\n\n\nTill anmälan
URL:https://www.teol.se/kalenderhandelse/pentekostal-migration-i-det-sekulara-sverige-mangvetenskapliga-perspektiv-pa-ett-nytt-religiost-kosmopolitiskt-landskap/
LOCATION:Internet\, Sverige
CATEGORIES:Folkbildning,Forskning,Studentinformation
END:VEVENT
END:VCALENDAR