BEGIN:VCALENDAR
VERSION:2.0
PRODID:-//Skandinavisk Teologisk Högskola - ECPv6.15.17.1//NONSGML v1.0//EN
CALSCALE:GREGORIAN
METHOD:PUBLISH
X-WR-CALNAME:Skandinavisk Teologisk Högskola
X-ORIGINAL-URL:https://www.teol.se
X-WR-CALDESC:Händelser för Skandinavisk Teologisk Högskola
REFRESH-INTERVAL;VALUE=DURATION:PT1H
X-Robots-Tag:noindex
X-PUBLISHED-TTL:PT1H
BEGIN:VTIMEZONE
TZID:Europe/Stockholm
BEGIN:DAYLIGHT
TZOFFSETFROM:+0100
TZOFFSETTO:+0200
TZNAME:CEST
DTSTART:20240331T010000
END:DAYLIGHT
BEGIN:STANDARD
TZOFFSETFROM:+0200
TZOFFSETTO:+0100
TZNAME:CET
DTSTART:20241027T010000
END:STANDARD
BEGIN:DAYLIGHT
TZOFFSETFROM:+0100
TZOFFSETTO:+0200
TZNAME:CEST
DTSTART:20250330T010000
END:DAYLIGHT
BEGIN:STANDARD
TZOFFSETFROM:+0200
TZOFFSETTO:+0100
TZNAME:CET
DTSTART:20251026T010000
END:STANDARD
BEGIN:DAYLIGHT
TZOFFSETFROM:+0100
TZOFFSETTO:+0200
TZNAME:CEST
DTSTART:20260329T010000
END:DAYLIGHT
BEGIN:STANDARD
TZOFFSETFROM:+0200
TZOFFSETTO:+0100
TZNAME:CET
DTSTART:20261025T010000
END:STANDARD
END:VTIMEZONE
BEGIN:VEVENT
DTSTART;TZID=Europe/Stockholm:20251010T081500
DTEND;TZID=Europe/Stockholm:20251011T120000
DTSTAMP:20260424T144131
CREATED:20250912T092653Z
LAST-MODIFIED:20250912T092653Z
UID:12245-1760084100-1760184000@www.teol.se
SUMMARY:MiniCampus: Församlingens ekonomi och ledarskap
DESCRIPTION:Lär dig mer om församlingens ekonomi och ledarskap av erfarna kristna entreprenörer\nDatum: 10-11 oktober\nPlats: STH\, Stålgatan 20\, Uppsala. Det går även att delta via zoom (se anmälningslänkar nedan) \nTalare:\nMagnus Jonegård: Mångårig konsult och chef inom management och it-branschen. Efter 30 år i näringslivet kallade Gud honom till att bli pastor. Med en masterexamen i teologi från USA som grund har han sedan 2004 arbetat som pastor och församlingskonsult primärt inom pingst och evangeliska frikyrkan. \nPatrik Sandberg: Har 13 års erfarenhet av församlingsplantering\, och var tidigare ledare för det allkristna bönenätverket Sverigebönen. Patrik är en uppskattad predikant och bibellärare\, känd för sin profetiska skärpa\, utmanande budskap och humor. Han är grundare av Homes of Hope och Prophetic Round Table Sweden samt initiativtagare till Sverige tillber Jesus. Vid sidan av tjänsten arbetar han som företagscoach och har hjälpt över 500 organisationer och tusen chefer. Patrik är även författare till boken Ledarskapskompassen. \nGöran Reierstam: Är utbildad arkitekt med verksamhet genom eget konsultföretag inriktat på fastighetsutveckling av kyrkofastigheter\, men också församlingsledare och grundare/huvudansvarig för evangelisationssatsningen VarförKristen. Göran har snart 30 års erfarenhet av projekt inom fastighetsutveckling och församlingsledning. Göran är medlem och ungdomsledare i Centrumkyrkan\, Vallentuna. \nAndré Andersson: Ägare och grundare av måleriföretaget Andrés måleri samt vd för Skandinavisk teologisk högskola. Förutom sin roll som målarmästare och vd är André en uppskattad coach och har även varit med och startat organisationen Focus Business School som har utbildat och utrustat ett stort antal människor över hela världen i företagande och entreprenörskap. \nAnmälan zoom fredag\nAnmälan zoom lördag \nSchema\nFredag\n08.15–08.30 Lovsång och bön\n08.30–10.00 Den fria församlingens ekonomi i grunden (Göran Reierstam)\n10.00–10.30 Fikarast\n10.30–12.00 Församlingens (fastighets-) förvaltarskap – hur pundet kan\nförvaltas och mångfaldigas (Göran Reierstam)\n12.00–13.30 Lunchrast\n13.30–14.15 Församlingsekonomi och ledarskap (André Andersson)\n14.20–15-00 Släpp loss lekmännen – nyckeln till väckelse i Sverige (Patrik Sandberg)\n15.00–15.30 Fikarast\n15.30 –17.00 Att förmera sina resurser (Patrik Sandberg) \n19.00 Kvällsmöte med Patrik Sandberg: Jesusmodellen – Frigöra enkla\nmänniskor för tjänst \nLördag\n08.15–08.30 Lovsång och bön\n08.30–10.00 Andligt ledarskap & Församlingens organisation (M Jonegård)\n10.00–10.30 Fikarast\n10.30–12.00 Ekonomi & Konflikthantering (Magnus Jonegård)
URL:https://www.teol.se/kalenderhandelse/minicampus-forsamlingens-ekonomi-och-ledarskap/
LOCATION:STH\, Stålgatan 20\, Uppsala\, 754 50\, Sweden
CATEGORIES:Akademisk kalender,Studentinformation
ATTACH;FMTTYPE=image/jpeg:https://www.teol.se/wp-content/uploads/2025/09/fb-eventbild-forsekonomi-minicampus250910_final.jpg
ORGANIZER;CN="Skandinavisk teologisk h%C3%B6gskola":MAILTO:kansli@teol.se
END:VEVENT
END:VCALENDAR